BEGIN:VCALENDAR
VERSION:2.0
PRODID:icalendar-ruby
CALSCALE:GREGORIAN
METHOD:PUBLISH
BEGIN:VEVENT
DTSTAMP:20260421T182034Z
UID:8-461553@agapetulsa.org
DTSTART:20260820T000000Z
DTEND:20260820T013000Z
CLASS:PUBLIC
CREATED:20260421T120102
DESCRIPTION:
LAST-MODIFIED:20260421T120102
LOCATION:Agape Outreach Ministries
SUMMARY:Wednesday Night Bible Study
URL;VALUE=URI:https://www.agapetulsa.org/events/wednesday-night-bible-study
 /2026-08-19
ATTACH;FILENAME=Unknown.jpeg;FMTTYPE=image/jpeg:https://dq5pwpg1q8ru0.cloud
 front.net/2024/08/02/03/41/23/88447e6e-70d0-4fab-be3e-0eb0a7dfad7a/Unknown
 .jpeg
END:VEVENT
END:VCALENDAR
